BEGIN:VCALENDAR
VERSION:2.0
PRODID:-//University of Manitoba//UMFOD Calendar//EN
CALSCALE:GREGORIAN
BEGIN:VEVENT
UID:69e52065cf32a@umanitoba.ca
SUMMARY:Pancreatic Cancer Research Program (PCARP): Focused Pilot Award - Internal Deadline
DESCRIPTION:Pancreatic Cancer Research Program (PCARP): Focused Pilot Award\n\nFunding up to a maximum of $200,000 USD in direct costs over two years is available.\n\nA pre-Application is required. Applications must be submitted through eBRAP.\n\n\nInternal Application Deadline: Sep 19, 2024 4:30 pm CST\n\nUMFOD Details: https://research.ad.umanitoba.ca/mrt/pubapp/umfo_view.php?id=3685\n\nProgram URL: https://cdmrp.health.mil/funding/pa/HT942524PCARPFPTA_GG.pdf\nInternal Deadline
X-ALT-DESC;FMTTYPE=text/html:<html><body>Pancreatic Cancer Research Program (PCARP): Focused Pilot Award<br /><br />Funding up to a maximum of $200\,000 USD in direct costs over two years is available.<br /><br />A pre-Application is required. Applications must be submitted through eBRAP.<br /><br /><br />Internal Application Deadline: Sep 19\, 2024 4:30 pm CST<br /><br />UMFOD Details: https://research.ad.umanitoba.ca/mrt/pubapp/umfo_view.php?id=3685<br /><br />Program URL: https://cdmrp.health.mil/funding/pa/HT942524PCARPFPTA_GG.pdf</body></html>
DTSTART:20240919T083000
DTEND:20240919T093000
BEGIN:VALARM
TRIGGER:-P2D
ACTION:DISPLAY
DESCRIPTION:Reminder for Pancreatic Cancer Research Program (PCARP): Focused Pilot Award
END:VALARM
END:VEVENT
END:VCALENDAR
