BEGIN:VCALENDAR
VERSION:2.0
PRODID:-//University of Manitoba//UMFOD Calendar//EN
CALSCALE:GREGORIAN
BEGIN:VEVENT
UID:69ed2596e4729@umanitoba.ca
SUMMARY:Postdoctoral Fellowship Award - Internal Deadline
DESCRIPTION:Postdoctoral Fellowship Award\n\nHeart & Stroke’s personnel award programs provide salary support to Canada’s top researchers across the career continuum. This support helps ensure the training, retention and success of Canada’s cardiovascular and cerebrovascular researchers. Heart & Stroke is pleased to launch the Postdoctoral Personnel Awards for the 2025/26 funding year. The objective of the competition is to increase the number of researchers and clinician-scientists in Canadian universities and research institutions devoted specifically to cardiovascular and/or cerebrovascular health. The stipends awarded will enable Postdoctoral Fellows to pursue their program of research and engage with mentors as part of their training.\n\nFunding available to a maximum of $30,000 per year for two years.\n\n\nInternal Application Deadline: Sep 16, 2024 4:30 pm CST\n\nUMFOD Details: https://research.ad.umanitoba.ca/mrt/pubapp/umfo_view.php?id=3663\n\nProgram URL: https://www.heartandstroke.ca/-/media/research/docs/2025-26/pd_guidelines.pdf?rev=c7280b6511314cecb0d4d642779d6fe0\nInternal Deadline
X-ALT-DESC;FMTTYPE=text/html:<html><body>Postdoctoral Fellowship Award<br /><br />Heart &amp\; Stroke’s personnel award programs provide salary support to Canada’s top researchers across the career continuum. This support helps ensure the training\, retention and success of Canada’s cardiovascular and cerebrovascular researchers. Heart &amp\; Stroke is pleased to launch the Postdoctoral Personnel Awards for the 2025/26 funding year. The objective of the competition is to increase the number of researchers and clinician-scientists in Canadian universities and research institutions devoted specifically to cardiovascular and/or cerebrovascular health. The stipends awarded will enable Postdoctoral Fellows to pursue their program of research and engage with mentors as part of their training.<br /><br />Funding available to a maximum of $30\,000 per year for two years.<br /><br /><br />Internal Application Deadline: Sep 16\, 2024 4:30 pm CST<br /><br />UMFOD Details: https://research.ad.umanitoba.ca/mrt/pubapp/umfo_view.php?id=3663<br /><br />Program URL: https://www.heartandstroke.ca/-/media/research/docs/2025-26/pd_guidelines.pdf?rev=c7280b6511314cecb0d4d642779d6fe0</body></html>
DTSTART:20240916T083000
DTEND:20240916T093000
BEGIN:VALARM
TRIGGER:-P2D
ACTION:DISPLAY
DESCRIPTION:Reminder for Postdoctoral Fellowship Award
END:VALARM
END:VEVENT
END:VCALENDAR
