BEGIN:VCALENDAR
VERSION:2.0
PRODID:-//University of Manitoba//UMFOD Calendar//EN
CALSCALE:GREGORIAN
BEGIN:VEVENT
UID:69ea37dca1dac@umanitoba.ca
SUMMARY:Research Grant in Allergy and Clinical Immunology - Internal Deadline
DESCRIPTION:Research Grant in Allergy and Clinical Immunology\n\nThe objective of the CAAIF-CSACI-Mitacs Research Grant in Allergy and Clinical Immunology is to fund a research grant in the field of allergy and clinical immunology. Applications that focus on areas that CAAIF has not funded previously are encouraged.  \n\nThere are two awards with the value of $50,000 which can be enhanced by an additional Mitacs award of up to $22,500 should the applicant budget an equivalent amount for a trainee and meet Mitacs eligibility requirements The term is for one year, non-renewable.\n\n\nInternal Application Deadline: Sep 06, 2024 4:30 pm CST\n\nUMFOD Details: https://research.ad.umanitoba.ca/mrt/pubapp/umfo_view.php?id=3658\n\nProgram URL: https://app.smarterselect.com/programs/96413-Canadian-Allergy-Asthma-And-Immunology-Foundation-Caaif\nInternal Deadline
X-ALT-DESC;FMTTYPE=text/html:<html><body>Research Grant in Allergy and Clinical Immunology<br /><br />The objective of the CAAIF-CSACI-Mitacs Research Grant in Allergy and Clinical Immunology is to fund a research grant in the field of allergy and clinical immunology. Applications that focus on areas that CAAIF has not funded previously are encouraged.  <br /><br />There are two awards with the value of $50\,000 which can be enhanced by an additional Mitacs award of up to $22\,500 should the applicant budget an equivalent amount for a trainee and meet Mitacs eligibility requirements The term is for one year\, non-renewable.<br /><br /><br />Internal Application Deadline: Sep 06\, 2024 4:30 pm CST<br /><br />UMFOD Details: https://research.ad.umanitoba.ca/mrt/pubapp/umfo_view.php?id=3658<br /><br />Program URL: https://app.smarterselect.com/programs/96413-Canadian-Allergy-Asthma-And-Immunology-Foundation-Caaif</body></html>
DTSTART:20240906T083000
DTEND:20240906T093000
BEGIN:VALARM
TRIGGER:-P2D
ACTION:DISPLAY
DESCRIPTION:Reminder for Research Grant in Allergy and Clinical Immunology
END:VALARM
END:VEVENT
END:VCALENDAR
