BEGIN:VCALENDAR
VERSION:2.0
PRODID:-//University of Manitoba//UMFOD Calendar//EN
CALSCALE:GREGORIAN
BEGIN:VEVENT
UID:69e5206559fa2@umanitoba.ca
SUMMARY:Peer Reviewed Orthopaedic Research Program (PRORP): Women’s Health Research Award - Internal Deadline
DESCRIPTION:Peer Reviewed Orthopaedic Research Program (PRORP): Women’s Health Research Award\n\nFunding up to a maximum of $1.5M USD in total costs over threeyears is available.  A Pre-Application is required and must be submitted through eBRAP.  Clinical trials are not allowed.\n\n\nInternal Application Deadline: Sep 03, 2024 4:30 pm CST\n\nUMFOD Details: https://research.ad.umanitoba.ca/mrt/pubapp/umfo_view.php?id=3686\n\nProgram URL: https://cdmrp.health.mil/funding/pa/HT942524PRORPWHRA_GG.pdf\nInternal Deadline
X-ALT-DESC;FMTTYPE=text/html:<html><body>Peer Reviewed Orthopaedic Research Program (PRORP): Women’s Health Research Award<br /><br />Funding up to a maximum of $1.5M USD in total costs over threeyears is available.  A Pre-Application is required and must be submitted through eBRAP.  Clinical trials are not allowed.<br /><br /><br />Internal Application Deadline: Sep 03\, 2024 4:30 pm CST<br /><br />UMFOD Details: https://research.ad.umanitoba.ca/mrt/pubapp/umfo_view.php?id=3686<br /><br />Program URL: https://cdmrp.health.mil/funding/pa/HT942524PRORPWHRA_GG.pdf</body></html>
DTSTART:20240903T083000
DTEND:20240903T093000
BEGIN:VALARM
TRIGGER:-P2D
ACTION:DISPLAY
DESCRIPTION:Reminder for Peer Reviewed Orthopaedic Research Program (PRORP): Women’s Health Research Award
END:VALARM
END:VEVENT
END:VCALENDAR
